BEGIN:VCALENDAR
PRODID:-//eluceo/ical//2.0/EN
VERSION:2.0
CALSCALE:GREGORIAN
BEGIN:VEVENT
UID:e44001f6bbe6c6e458f5672e3e13e574
DTSTAMP:20260424T034450Z
SUMMARY:Distriktkonferenz Rotary
DESCRIPTION:
URL:https://rotaract-basel.ch/es/agenda/show/158080
DTSTART;TZID=Europe/Zurich:20230623T120000
DTEND;TZID=Europe/Zurich:20230623T230000
LOCATION:Umgebung Solothurn
CATEGORIES:Rotaract
END:VEVENT
BEGIN:VTIMEZONE
TZID:Europe/Zurich
BEGIN:DAYLIGHT
DTSTART:20230623T120000
TZNAME:CEST
TZOFFSETTO:+0200
TZOFFSETFROM:+0200
END:DAYLIGHT
END:VTIMEZONE
END:VCALENDAR
