BEGIN:VCALENDAR
PRODID:-//eluceo/ical//2.0/EN
VERSION:2.0
CALSCALE:GREGORIAN
BEGIN:VEVENT
UID:1612efb233bf3b8d4fff988b4a1abbc8
DTSTAMP:20260420T082605Z
SUMMARY:Hebammenevent
DESCRIPTION:Sitio web: https://www.haus-der-geburt.ch/
URL:https://rotaract-basel.ch/es/agenda/show/150644
DTSTART;TZID=Europe/Zurich:20230426T184500
DTEND;TZID=Europe/Zurich:20230426T214500
LOCATION:Haus der Geburt - Gellertstrasse 148\, 4052 Basel
CATEGORIES:Rotaract
END:VEVENT
BEGIN:VTIMEZONE
TZID:Europe/Zurich
BEGIN:DAYLIGHT
DTSTART:20230426T184500
TZNAME:CEST
TZOFFSETTO:+0200
TZOFFSETFROM:+0200
END:DAYLIGHT
END:VTIMEZONE
END:VCALENDAR
