BEGIN:VCALENDAR
PRODID:-//eluceo/ical//2.0/EN
VERSION:2.0
CALSCALE:GREGORIAN
BEGIN:VEVENT
UID:3d38f82465a90f969395ec4880c9557c
DTSTAMP:20260424T181212Z
SUMMARY:Führung Grosser Rat Basel + Füürobe-Drink
DESCRIPTION:Orador(es): 
URL:https://rotaract-basel.ch/es/agenda/show/129837
DTSTART;TZID=Europe/Zurich:20210929T180000
DTEND;TZID=Europe/Zurich:20210929T190000
LOCATION:Rathaus Basel\, Marktplatz
CATEGORIES:Rotaract
END:VEVENT
BEGIN:VTIMEZONE
TZID:Europe/Zurich
BEGIN:DAYLIGHT
DTSTART:20210929T180000
TZNAME:CEST
TZOFFSETTO:+0200
TZOFFSETFROM:+0200
END:DAYLIGHT
END:VTIMEZONE
END:VCALENDAR
