BEGIN:VCALENDAR
PRODID:-//eluceo/ical//2.0/EN
VERSION:2.0
CALSCALE:GREGORIAN
BEGIN:VEVENT
UID:1c95f3ee7b7767fca8b251af25a0ffa4
DTSTAMP:20260421T100859Z
SUMMARY:Regelmeeting
DESCRIPTION:Website: https://www.heubergkeller.ch/
URL:https://rotaract-basel.ch/en/agenda/show/181502
DTSTART;TZID=Europe/Zurich:20250408T193000
DTEND;TZID=Europe/Zurich:20250408T203000
LOCATION:Heuberg Keller\, Heuberg 26\, 4051 Basel\, Schweiz
CATEGORIES:Rotaract
END:VEVENT
BEGIN:VTIMEZONE
TZID:Europe/Zurich
BEGIN:DAYLIGHT
DTSTART:20250408T193000
TZNAME:CEST
TZOFFSETTO:+0200
TZOFFSETFROM:+0200
END:DAYLIGHT
END:VTIMEZONE
END:VCALENDAR
