BEGIN:VCALENDAR
PRODID:-//eluceo/ical//2.0/EN
VERSION:2.0
CALSCALE:GREGORIAN
BEGIN:VEVENT
UID:3e06120d249273008d69962ac7c987e6
DTSTAMP:20260420T123424Z
SUMMARY:Lunch with Rotary Basel Riehen
DESCRIPTION:
URL:https://rotaract-basel.ch/en/agenda/show/174457
DTSTART;TZID=Europe/Zurich:20240229T121500
DTEND;TZID=Europe/Zurich:20240229T133000
LOCATION:Park Lange Erlen\, Erlenparkweg 55\, 4058 Basel
CATEGORIES:Rotaract
END:VEVENT
BEGIN:VTIMEZONE
TZID:Europe/Zurich
BEGIN:STANDARD
DTSTART:20240229T121500
TZNAME:CET
TZOFFSETTO:+0100
TZOFFSETFROM:+0100
END:STANDARD
END:VTIMEZONE
END:VCALENDAR
