BEGIN:VCALENDAR
PRODID:-//eluceo/ical//2.0/EN
VERSION:2.0
CALSCALE:GREGORIAN
BEGIN:VEVENT
UID:99d6961272b21f41e8d2df88b279caf5
DTSTAMP:20260420T105738Z
SUMMARY:Regelmeeting
DESCRIPTION:Website: https://www.heubergkeller.ch/
URL:https://rotaract-basel.ch/en/agenda/show/170371
DTSTART;TZID=Europe/Zurich:20240213T193000
DTEND;TZID=Europe/Zurich:20240213T203000
LOCATION:Heuberg Keller\, Heuberg 26\, 4051 Basel\, Schweiz
CATEGORIES:Rotaract
END:VEVENT
BEGIN:VTIMEZONE
TZID:Europe/Zurich
BEGIN:STANDARD
DTSTART:20240213T193000
TZNAME:CET
TZOFFSETTO:+0100
TZOFFSETFROM:+0100
END:STANDARD
END:VTIMEZONE
END:VCALENDAR
