BEGIN:VCALENDAR
PRODID:-//eluceo/ical//2.0/EN
VERSION:2.0
CALSCALE:GREGORIAN
BEGIN:VEVENT
UID:fd2a388d5b2dd364ad3038a0b39d9043
DTSTAMP:20260420T091617Z
SUMMARY:Regel Meeting March
DESCRIPTION:
URL:https://rotaract-basel.ch/en/agenda/show/122328
DTSTART;TZID=Europe/Zurich:20210309T190000
DTEND;TZID=Europe/Zurich:20210309T210000
LOCATION:To be confirmed
CATEGORIES:Rotaract
END:VEVENT
BEGIN:VTIMEZONE
TZID:Europe/Zurich
BEGIN:STANDARD
DTSTART:20210309T190000
TZNAME:CET
TZOFFSETTO:+0100
TZOFFSETFROM:+0100
END:STANDARD
END:VTIMEZONE
END:VCALENDAR
