BEGIN:VCALENDAR
PRODID:-//eluceo/ical//2.0/EN
VERSION:2.0
CALSCALE:GREGORIAN
BEGIN:VEVENT
UID:02de424ebeb82ea6e47aa96a683a7838
DTSTAMP:20260420T132138Z
SUMMARY:Regelmeeting
DESCRIPTION:
URL:https://rotaract-basel.ch/en/agenda/show/122198
DTSTART;TZID=Europe/Zurich:20200512T192500
DTEND;TZID=Europe/Zurich:20200512T192500
LOCATION:Swissôtel Le Plaza Basel
CATEGORIES:Rotaract
END:VEVENT
BEGIN:VTIMEZONE
TZID:Europe/Zurich
BEGIN:DAYLIGHT
DTSTART:20200512T192500
TZNAME:CEST
TZOFFSETTO:+0200
TZOFFSETFROM:+0200
END:DAYLIGHT
END:VTIMEZONE
END:VCALENDAR
