BEGIN:VCALENDAR
PRODID:-//eluceo/ical//2.0/EN
VERSION:2.0
CALSCALE:GREGORIAN
BEGIN:VEVENT
UID:f77b7d75c84c5d37e5dc4d865cd11d52
DTSTAMP:20260421T123632Z
SUMMARY:1. Winter-Event [Prov.: Schlitteln & Fondue]
DESCRIPTION:
URL:https://rotaract-basel.ch/en/agenda/show/120652
DTSTART;TZID=Europe/Zurich:20160116T080000
DTEND;TZID=Europe/Zurich:20160116T080000
LOCATION:-
CATEGORIES:Rotaract
END:VEVENT
BEGIN:VTIMEZONE
TZID:Europe/Zurich
BEGIN:STANDARD
DTSTART:20160116T080000
TZNAME:CET
TZOFFSETTO:+0100
TZOFFSETFROM:+0100
END:STANDARD
END:VTIMEZONE
END:VCALENDAR
