BEGIN:VCALENDAR
PRODID:-//eluceo/ical//2.0/EN
VERSION:2.0
CALSCALE:GREGORIAN
BEGIN:VEVENT
UID:fa4fc46d6b896ae1d613fce307ba29d6
DTSTAMP:20260421T140550Z
SUMMARY:Regelmeeting Mai mit Gastvortrag zum Thema "Inklusion und Barrieren
 freiheit"
DESCRIPTION:Webseite: http://www.blindekuh.ch
URL:https://rotaract-basel.ch/de/agenda/show/206293
DTSTART;TZID=Europe/Zurich:20260512T193000
DTEND;TZID=Europe/Zurich:20260512T203000
LOCATION:Heubergkeller\, Heuberg 26\, 4051 Basel\, Schweiz
CATEGORIES:Rotaract
END:VEVENT
BEGIN:VTIMEZONE
TZID:Europe/Zurich
BEGIN:DAYLIGHT
DTSTART:20260512T193000
TZNAME:CEST
TZOFFSETTO:+0200
TZOFFSETFROM:+0200
END:DAYLIGHT
END:VTIMEZONE
END:VCALENDAR
