BEGIN:VCALENDAR
PRODID:-//eluceo/ical//2.0/EN
VERSION:2.0
CALSCALE:GREGORIAN
BEGIN:VEVENT
UID:d351e1a60d8c9aeccaa8461fb43eafbd
DTSTAMP:20260424T072314Z
SUMMARY:BBT (Basler Bar Tour/Inoffizielles Meeting RAC Basel)
DESCRIPTION:
URL:https://rotaract-basel.ch/de/agenda/show/172230
DTSTART;TZID=Europe/Zurich:20240123T200000
DTEND;TZID=Europe/Zurich:20240123T220000
LOCATION:tbd
CATEGORIES:Rotaract
END:VEVENT
BEGIN:VTIMEZONE
TZID:Europe/Zurich
BEGIN:STANDARD
DTSTART:20240123T200000
TZNAME:CET
TZOFFSETTO:+0100
TZOFFSETFROM:+0100
END:STANDARD
END:VTIMEZONE
END:VCALENDAR
