BEGIN:VCALENDAR
PRODID:-//eluceo/ical//2.0/EN
VERSION:2.0
CALSCALE:GREGORIAN
BEGIN:VEVENT
UID:f7a15539418ed8d90e0ccc6250f62ff1
DTSTAMP:20260424T054517Z
SUMMARY:Weihnachtsanlass Holbeinhof
DESCRIPTION:
URL:https://rotaract-basel.ch/de/agenda/show/172229
DTSTART;TZID=Europe/Zurich:20240114T140000
DTEND;TZID=Europe/Zurich:20240114T180000
LOCATION:Holbeinhof\, Leimenstrasse 67\, 4051 Basel
CATEGORIES:Rotaract
END:VEVENT
BEGIN:VTIMEZONE
TZID:Europe/Zurich
BEGIN:STANDARD
DTSTART:20240114T140000
TZNAME:CET
TZOFFSETTO:+0100
TZOFFSETFROM:+0100
END:STANDARD
END:VTIMEZONE
END:VCALENDAR
