BEGIN:VCALENDAR
PRODID:-//eluceo/ical//2.0/EN
VERSION:2.0
CALSCALE:GREGORIAN
BEGIN:VEVENT
UID:cd333eb7b0b48520e212b4e67bfce6b7
DTSTAMP:20260423T182458Z
SUMMARY:BBT (Basler Bar Tour/Inoffizielles Meeting RAC Basel)
DESCRIPTION:Webseite: https://amber-bar.ch/
URL:https://rotaract-basel.ch/de/agenda/show/163093
DTSTART;TZID=Europe/Zurich:20230718T200000
DTEND;TZID=Europe/Zurich:20230718T220000
LOCATION:Amber Bar
CATEGORIES:Rotaract
END:VEVENT
BEGIN:VTIMEZONE
TZID:Europe/Zurich
BEGIN:DAYLIGHT
DTSTART:20230718T200000
TZNAME:CEST
TZOFFSETTO:+0200
TZOFFSETFROM:+0200
END:DAYLIGHT
END:VTIMEZONE
END:VCALENDAR
