BEGIN:VCALENDAR
PRODID:-//eluceo/ical//2.0/EN
VERSION:2.0
CALSCALE:GREGORIAN
BEGIN:VEVENT
UID:20f3cbe1523c08a90ea391bb1dbae1c7
DTSTAMP:20260423T145245Z
SUMMARY:GV
DESCRIPTION:Webseite: https://confiserie-schiesser.ch/
URL:https://rotaract-basel.ch/de/agenda/show/159734
DTSTART;TZID=Europe/Zurich:20230617T190000
DTEND;TZID=Europe/Zurich:20230618T180000
LOCATION:Schiesser Basel - Marktplatz 19\, 4051 Basel
CATEGORIES:Rotaract
END:VEVENT
BEGIN:VTIMEZONE
TZID:Europe/Zurich
BEGIN:DAYLIGHT
DTSTART:20230617T190000
TZNAME:CEST
TZOFFSETTO:+0200
TZOFFSETFROM:+0200
END:DAYLIGHT
END:VTIMEZONE
END:VCALENDAR
