BEGIN:VCALENDAR
PRODID:-//eluceo/ical//2.0/EN
VERSION:2.0
CALSCALE:GREGORIAN
BEGIN:VEVENT
UID:c017827d07bc51cd2763041c166378f2
DTSTAMP:20260423T133255Z
SUMMARY:30 Jahre Rotaract Basel - Charterfeier
DESCRIPTION:Webseite: https://www.bubblesandbeats.ch/
URL:https://rotaract-basel.ch/de/agenda/show/156608
DTSTART;TZID=Europe/Zurich:20230916T140000
DTEND;TZID=Europe/Zurich:20230916T235500
LOCATION:Halle 7\, Dornacherstrasse 192\, 4053 Basel (direkt beim Bahnhof S
 BB in Basel)
CATEGORIES:Rotaract
END:VEVENT
BEGIN:VTIMEZONE
TZID:Europe/Zurich
BEGIN:DAYLIGHT
DTSTART:20230916T140000
TZNAME:CEST
TZOFFSETTO:+0200
TZOFFSETFROM:+0200
END:DAYLIGHT
END:VTIMEZONE
END:VCALENDAR
