BEGIN:VCALENDAR
PRODID:-//eluceo/ical//2.0/EN
VERSION:2.0
CALSCALE:GREGORIAN
BEGIN:VEVENT
UID:4179446be413942065e16a1aefe0a4c5
DTSTAMP:20260423T184913Z
SUMMARY:Deuko Konstanz 2023
DESCRIPTION:
URL:https://rotaract-basel.ch/de/agenda/show/156429
DTSTART;TZID=Europe/Zurich:20230310T000000
DTEND;TZID=Europe/Zurich:20230312T230000
LOCATION:Konstanz
CATEGORIES:Rotaract
END:VEVENT
BEGIN:VTIMEZONE
TZID:Europe/Zurich
BEGIN:STANDARD
DTSTART:20230310T000000
TZNAME:CET
TZOFFSETTO:+0100
TZOFFSETFROM:+0100
END:STANDARD
END:VTIMEZONE
END:VCALENDAR
