BEGIN:VCALENDAR
PRODID:-//eluceo/ical//2.0/EN
VERSION:2.0
CALSCALE:GREGORIAN
BEGIN:VEVENT
UID:f65279898027cb50cf95d35980252c15
DTSTAMP:20260423T235657Z
SUMMARY:Mini-GV
DESCRIPTION:
URL:https://rotaract-basel.ch/de/agenda/show/148010
DTSTART;TZID=Europe/Zurich:20221203T163000
DTEND;TZID=Europe/Zurich:20221203T220000
LOCATION:Nähe Barfüsserplatz
CATEGORIES:Rotaract
END:VEVENT
BEGIN:VTIMEZONE
TZID:Europe/Zurich
BEGIN:STANDARD
DTSTART:20221203T163000
TZNAME:CET
TZOFFSETTO:+0100
TZOFFSETFROM:+0100
END:STANDARD
END:VTIMEZONE
END:VCALENDAR
