BEGIN:VCALENDAR
PRODID:-//eluceo/ical//2.0/EN
VERSION:2.0
CALSCALE:GREGORIAN
BEGIN:VEVENT
UID:c5e9c8461b8366a4426c067d4629baae
DTSTAMP:20260421T120529Z
SUMMARY:"Schlittschüendle uf dr Kunsti"
DESCRIPTION:
URL:https://rotaract-basel.ch/de/agenda/show/121865
DTSTART;TZID=Europe/Zurich:20190122T180000
DTEND;TZID=Europe/Zurich:20190122T180000
LOCATION:Kunsteisbahn Margarethen
CATEGORIES:Rotaract
END:VEVENT
BEGIN:VTIMEZONE
TZID:Europe/Zurich
BEGIN:STANDARD
DTSTART:20190122T180000
TZNAME:CET
TZOFFSETTO:+0100
TZOFFSETFROM:+0100
END:STANDARD
END:VTIMEZONE
END:VCALENDAR
