BEGIN:VCALENDAR
PRODID:-//eluceo/ical//2.0/EN
VERSION:2.0
CALSCALE:GREGORIAN
BEGIN:VEVENT
UID:6b8ec2237305adae03ce1e3319c1a7ac
DTSTAMP:20260421T135544Z
SUMMARY:Regelmeeting
DESCRIPTION:
URL:https://rotaract-basel.ch/de/agenda/show/121725
DTSTART;TZID=Europe/Zurich:20190108T193000
DTEND;TZID=Europe/Zurich:20190108T193000
LOCATION:Hotel Merian - Saal &quot\;Wilde Maa&quot\;
CATEGORIES:Rotaract
END:VEVENT
BEGIN:VTIMEZONE
TZID:Europe/Zurich
BEGIN:STANDARD
DTSTART:20190108T193000
TZNAME:CET
TZOFFSETTO:+0100
TZOFFSETFROM:+0100
END:STANDARD
END:VTIMEZONE
END:VCALENDAR
