BEGIN:VCALENDAR
PRODID:-//eluceo/ical//2.0/EN
VERSION:2.0
CALSCALE:GREGORIAN
BEGIN:VEVENT
UID:3ed2e8e2826eb176a84460bc61765aaf
DTSTAMP:20260421T192238Z
SUMMARY:Regelmeeting Januar - Goodbye Sophie!
DESCRIPTION:Genaue Infos & Traktanden folgen vor dem Regelmeeting!
URL:https://rotaract-basel.ch/de/agenda/show/121430
DTSTART;TZID=Europe/Zurich:20180109T193000
DTEND;TZID=Europe/Zurich:20180109T193000
LOCATION:Hotel Merian
CATEGORIES:Rotaract
END:VEVENT
BEGIN:VTIMEZONE
TZID:Europe/Zurich
BEGIN:STANDARD
DTSTART:20180109T193000
TZNAME:CET
TZOFFSETTO:+0100
TZOFFSETFROM:+0100
END:STANDARD
END:VTIMEZONE
END:VCALENDAR
