BEGIN:VCALENDAR
PRODID:-//eluceo/ical//2.0/EN
VERSION:2.0
CALSCALE:GREGORIAN
BEGIN:VEVENT
UID:435a65a9cab016b3a67e41a952104426
DTSTAMP:20260421T173606Z
SUMMARY:Aufführung  „A LOT OF STORIES - AMPHITRYON"
DESCRIPTION:A LOT OF STORIES - AMPHITRYON\n\nJugendclub Performance (15+)\n
 \nWir stellen uns Geschichten als eine Art Netz vor. Irgendwann gelangen w
 ir zu einem Knoten\, nennen wir ihn Amphitryon. Welche Fäden führen zu d
 iesem Knoten\, welche gehen von ihm ab\, wie werden im Theater Geschichten
  (immer wieder) erzählt und was passiert\, wenn eine Bühne plötzlich vo
 n Doppelgängern bevölkert wird? Ein Club\, der auf der Suche nach Antwor
 ten alle verfügbaren Theatermittel einsetzt.\n\nDie Geschichte von Amphit
 ryon\, in der Doppelgänger ihr Unwesen treiben und allgemeine Verwirrung 
 herrscht\, wird seit zweitausend Jahren immer wieder im Theater erzählt. 
 Der Jugendclub Performance begibt sich in diese Endlosschleife des Erzähl
 ens und wird dabei vom Schlagzeugensemble der Musikschule Münchenstein mu
 sikalisch begleitet.\n\nMIT Adèle Baumann\, Hannah Feldhaus\, Julia Hebe
 isen\, Arta Krasniqi\, Ariane Mollet\, Sophie Persson\, Daniela Vollmer SC
 HLAGZEUGENSEMBLE Tim Buser\, Nicolas Collet\, Cédric Naef\, Moritz Riegge
 r\, Lars Schüep\, Noah Zbinden\n\nLEITUNG Béatrice Goetz und Florence Ru
 ckstuhl\n\n \n\nTickets:\n\nJede(r) bestellt individuell die nötigen Tic
 kets. Die Anmeldung dient nur zur Information um zu wissen wer an die Vors
 tellung geht\, und dass man sich im Anschluss noch zu einem Schlummertrunk
  treffen kann.\n\nUnser Partnerclub Rotary Dreiländereck wird ebensfalls 
 vor Ort sein.\nReferenten/innen: Sophie Persson
URL:https://rotaract-basel.ch/de/agenda/show/121429
DTSTART;TZID=Europe/Zurich:20180108T200000
DTEND;TZID=Europe/Zurich:20180108T200000
LOCATION:Nachtcafé/Box\, Theater Basel\, Elisabethenstr. 16\, CH-4051 Base
 l
CATEGORIES:Rotaract
END:VEVENT
BEGIN:VTIMEZONE
TZID:Europe/Zurich
BEGIN:STANDARD
DTSTART:20180108T200000
TZNAME:CET
TZOFFSETTO:+0100
TZOFFSETFROM:+0100
END:STANDARD
END:VTIMEZONE
END:VCALENDAR
