BEGIN:VCALENDAR
PRODID:-//eluceo/ical//2.0/EN
VERSION:2.0
CALSCALE:GREGORIAN
BEGIN:VEVENT
UID:8268677478314ed1120191af489a475b
DTSTAMP:20260425T153553Z
SUMMARY:Em Bebbi sy Jazz
DESCRIPTION:Webseite: http://Programm: http://www.embebbisyjazz.ch/programm
 -2015.html
URL:https://rotaract-basel.ch/de/agenda/show/120642
DTSTART;TZID=Europe/Zurich:20150821T180000
DTEND;TZID=Europe/Zurich:20150822T010000
LOCATION:Treffpunkt: Telefonkabinen Barfüsserplatz Basel
CATEGORIES:Rotaract
END:VEVENT
BEGIN:VTIMEZONE
TZID:Europe/Zurich
BEGIN:DAYLIGHT
DTSTART:20150821T180000
TZNAME:CEST
TZOFFSETTO:+0200
TZOFFSETFROM:+0200
END:DAYLIGHT
END:VTIMEZONE
END:VCALENDAR
