BEGIN:VCALENDAR
PRODID:-//eluceo/ical//2.0/EN
VERSION:2.0
CALSCALE:GREGORIAN
BEGIN:VEVENT
UID:8a8ef80cfaf8f38491396af60ddd10d3
DTSTAMP:20260423T083831Z
SUMMARY:Regelmeeting Governorbesuch
DESCRIPTION:Web stranica: https://losteria.net/ch/
URL:https://rotaract-basel.ch/bs/agenda/show/201150
DTSTART;TZID=Europe/Zurich:20251111T193000
DTEND;TZID=Europe/Zurich:20251111T203000
LOCATION:L'Osteria Basel Plaza\, Steinentorstrasse 8\, 4051 Basel
CATEGORIES:Rotaract
END:VEVENT
BEGIN:VTIMEZONE
TZID:Europe/Zurich
BEGIN:STANDARD
DTSTART:20251111T193000
TZNAME:CET
TZOFFSETTO:+0100
TZOFFSETFROM:+0100
END:STANDARD
END:VTIMEZONE
END:VCALENDAR
