BEGIN:VCALENDAR
PRODID:-//eluceo/ical//2.0/EN
VERSION:2.0
CALSCALE:GREGORIAN
BEGIN:VEVENT
UID:a12263a493864f7ff526efa9444d29b6
DTSTAMP:20260423T004133Z
SUMMARY:Gemeinsamer Pub-Crawl mit Rotary International
DESCRIPTION:Web stranica: https://www.heubergkeller.ch/
URL:https://rotaract-basel.ch/bs/agenda/show/150604
DTSTART;TZID=Europe/Zurich:20221129T190000
DTEND;TZID=Europe/Zurich:20221129T210000
LOCATION:Heuberg Keller\, Heuberg 26\, 4051 Basel\, Schweiz
CATEGORIES:Rotaract
END:VEVENT
BEGIN:VTIMEZONE
TZID:Europe/Zurich
BEGIN:STANDARD
DTSTART:20221129T190000
TZNAME:CET
TZOFFSETTO:+0100
TZOFFSETFROM:+0100
END:STANDARD
END:VTIMEZONE
END:VCALENDAR
