BEGIN:VCALENDAR
PRODID:-//eluceo/ical//2.0/EN
VERSION:2.0
CALSCALE:GREGORIAN
BEGIN:VEVENT
UID:2274cfb784cbfadfb7f861e748b9aa87
DTSTAMP:20260423T060411Z
SUMMARY:Regelmeeting
DESCRIPTION:
URL:https://rotaract-basel.ch/bs/agenda/show/138018
DTSTART;TZID=Europe/Zurich:20220315T193000
DTEND;TZID=Europe/Zurich:20220315T193000
LOCATION:Heuberg 26
CATEGORIES:Rotaract
END:VEVENT
BEGIN:VTIMEZONE
TZID:Europe/Zurich
BEGIN:STANDARD
DTSTART:20220315T193000
TZNAME:CET
TZOFFSETTO:+0100
TZOFFSETFROM:+0100
END:STANDARD
END:VTIMEZONE
END:VCALENDAR
